BEGIN:VCALENDAR
VERSION:2.0
PRODID:-//Swiss Netball - ECPv6.15.20//NONSGML v1.0//EN
CALSCALE:GREGORIAN
METHOD:PUBLISH
X-WR-CALNAME:Swiss Netball
X-ORIGINAL-URL:https://swissnetball.ch
X-WR-CALDESC:Events for Swiss Netball
REFRESH-INTERVAL;VALUE=DURATION:PT1H
X-Robots-Tag:noindex
X-PUBLISHED-TTL:PT1H
BEGIN:VTIMEZONE
TZID:UTC
BEGIN:STANDARD
TZOFFSETFROM:+0000
TZOFFSETTO:+0000
TZNAME:UTC
DTSTART:20240101T000000
END:STANDARD
END:VTIMEZONE
BEGIN:VEVENT
DTSTART;TZID=UTC:20250201T100000
DTEND;TZID=UTC:20250202T150000
DTSTAMP:20260422T130403
CREATED:20240902T083513Z
LAST-MODIFIED:20250128T172347Z
UID:1600-1738404000-1738508400@swissnetball.ch
SUMMARY:Final Selection U17s
DESCRIPTION:Performance Squad \nSat: 10h00-16h00 \nSun: 09h00-15h00 \n  \nETP \nSat: 11h45-16h00  \n  \nRemember: All kit including ball\, strapping\, food \n  \n 
URL:https://swissnetball.ch/event/final-selection-u17s/
LOCATION:La Cote International School\, Ch. de Clamogne 8\, Aubonne\, 1170\, Switzerland
CATEGORIES:All Events,National Squads
ATTACH;FMTTYPE=image/png:https://swissnetball.ch/wp-content/uploads/2024/09/Junior-National-Squad.png
END:VEVENT
END:VCALENDAR