BEGIN:VCALENDAR
VERSION:2.0
PRODID:-//Swiss Netball - ECPv6.15.20//NONSGML v1.0//EN
CALSCALE:GREGORIAN
METHOD:PUBLISH
X-WR-CALNAME:Swiss Netball
X-ORIGINAL-URL:https://swissnetball.ch
X-WR-CALDESC:Events for Swiss Netball
REFRESH-INTERVAL;VALUE=DURATION:PT1H
X-Robots-Tag:noindex
X-PUBLISHED-TTL:PT1H
BEGIN:VTIMEZONE
TZID:UTC
BEGIN:STANDARD
TZOFFSETFROM:+0000
TZOFFSETTO:+0000
TZNAME:UTC
DTSTART:20240101T000000
END:STANDARD
END:VTIMEZONE
BEGIN:VEVENT
DTSTART;VALUE=DATE:20250329
DTEND;VALUE=DATE:20250331
DTSTAMP:20260419T210212
CREATED:20240902T092506Z
LAST-MODIFIED:20241002T150316Z
UID:1708-1743206400-1743379199@swissnetball.ch
SUMMARY:Mentoring (BiT and B Umpires)
DESCRIPTION:
URL:https://swissnetball.ch/event/mentoring-bit-b-umpires-2/
LOCATION:GE
CATEGORIES:All Events,Officiating
ATTACH;FMTTYPE=image/png:https://swissnetball.ch/wp-content/uploads/2024/08/Umpire_1_0-1.png
END:VEVENT
BEGIN:VEVENT
DTSTART;TZID=UTC:20250329T223000
DTEND;TZID=UTC:20250330T150000
DTSTAMP:20260419T210212
CREATED:20240902T090318Z
LAST-MODIFIED:20250128T173144Z
UID:1651-1743287400-1743346800@swissnetball.ch
SUMMARY:Selection Weekend Open
DESCRIPTION:Sat: 10h30-16h30 \nSun: 09h00-15h00
URL:https://swissnetball.ch/event/selection-weekend-open/
LOCATION:Wetzikon\, Zurich\, Kantonsschule Zürcher Oberland\, Bühlstrasse 36\, Wetzikon\, ZH\, 8620\, Switzerland
CATEGORIES:All Events,National Squads
ATTACH;FMTTYPE=image/jpeg:https://swissnetball.ch/wp-content/uploads/2024/09/Photo-03-06-2022-16-40-52-1-2_1250x833-1-e1727617837376.jpeg
END:VEVENT
END:VCALENDAR