BEGIN:VCALENDAR
VERSION:2.0
PRODID:-//Swiss Netball - ECPv6.15.20//NONSGML v1.0//EN
CALSCALE:GREGORIAN
METHOD:PUBLISH
X-WR-CALNAME:Swiss Netball
X-ORIGINAL-URL:https://swissnetball.ch
X-WR-CALDESC:Events for Swiss Netball
REFRESH-INTERVAL;VALUE=DURATION:PT1H
X-Robots-Tag:noindex
X-PUBLISHED-TTL:PT1H
BEGIN:VTIMEZONE
TZID:UTC
BEGIN:STANDARD
TZOFFSETFROM:+0000
TZOFFSETTO:+0000
TZNAME:UTC
DTSTART:20240101T000000
END:STANDARD
END:VTIMEZONE
BEGIN:VEVENT
DTSTART;TZID=UTC:20250607T100000
DTEND;TZID=UTC:20250607T160000
DTSTAMP:20260419T180148
CREATED:20240902T074012Z
LAST-MODIFIED:20250512T211713Z
UID:1499-1749290400-1749312000@swissnetball.ch
SUMMARY:CANCELLED: Senior Mixed Matchplay
DESCRIPTION:More details: https://swissnetball.ch/matchplays/
URL:https://swissnetball.ch/event/senior-mixed-matchplay/
LOCATION:Bois-des-Frères\, Bois-des-Frères\, Chemin de l'Ecu 22\, Vernier\, Geneva\, 1219\, Switzerland
CATEGORIES:All Events,Matchplay
ATTACH;FMTTYPE=image/png:https://swissnetball.ch/wp-content/uploads/2024/09/Senior-Matchplay.png
END:VEVENT
END:VCALENDAR