BEGIN:VCALENDAR
VERSION:2.0
PRODID:-//Swiss Netball - ECPv6.15.20//NONSGML v1.0//EN
CALSCALE:GREGORIAN
METHOD:PUBLISH
X-ORIGINAL-URL:https://swissnetball.ch
X-WR-CALDESC:Events for Swiss Netball
REFRESH-INTERVAL;VALUE=DURATION:PT1H
X-Robots-Tag:noindex
X-PUBLISHED-TTL:PT1H
BEGIN:VTIMEZONE
TZID:UTC
BEGIN:STANDARD
TZOFFSETFROM:+0000
TZOFFSETTO:+0000
TZNAME:UTC
DTSTART:20240101T000000
END:STANDARD
END:VTIMEZONE
BEGIN:VEVENT
DTSTART;TZID=UTC:20250302T090000
DTEND;TZID=UTC:20250302T163000
DTSTAMP:20260420T041945
CREATED:20240902T094029Z
LAST-MODIFIED:20250206T205613Z
UID:1745-1740906000-1740933000@swissnetball.ch
SUMMARY:CANCELLED - FIRST AID CLASS (min 10 attendees)
DESCRIPTION:Register in Eventene. \nCourse includes:  \n\nCertification\nEFR Book\n5 to 6 hours of course Tuition\nGloves\nCPR Equipment (for demonstration usage only)\n\nPrice: CHF 120.- for members\, CHF 150.- for non-members \nDeadline to register: Sunday 16 February 2025 \nMinimum age: 14 \nMinimum number required for course to go ahead: 10 \nThis course will be in English however the tutor speaks fluent French. \n  \nPrimary care:  \nEmergency First Response Primary Care (CPR) teaches participants how to respond to life-threatening emergencies. The course focuses on primary care through a combination of knowledge development\, skill development and realistic scenario practice to make sure participants have the confidence in their ability to provide care when emergency situations arise. \nSecondary care: \nEmergency First Response Secondary Care (first aid) covers injuries or illnesses that are not immediately life threatening. Participants focus on secondary assessment and first aid through knowledge development\, skill development and realistic scenario practice. \nSecondary Skills taught in this course: \n\nInjury Assessment\nIllness Assessment\nBandaging\nSplinting for Sprain\, Dislocations and Fractures
URL:https://swissnetball.ch/event/first-aid-class-theory-room/
LOCATION:Bois-des-Frères\, Bois-des-Frères\, Chemin de l'Ecu 22\, Vernier\, Geneva\, 1219\, Switzerland
CATEGORIES:All Events
ATTACH;FMTTYPE=image/jpeg:https://swissnetball.ch/wp-content/uploads/2024/09/first-aid-cancelled.jpg
END:VEVENT
BEGIN:VEVENT
DTSTART;VALUE=DATE:20250303
DTEND;VALUE=DATE:20250304
DTSTAMP:20260420T041945
CREATED:20240902T092156Z
LAST-MODIFIED:20250218T112859Z
UID:1699-1740960000-1741046399@swissnetball.ch
SUMMARY:Rules Discussion (reflection on Round 3-5 of National League) - ONLINE 1 hour
DESCRIPTION:Date: Monday\, 3 March 2025 \nTime: 20:00 – 21:00 \nThese discussions will be facilitated by the Officiating Lead. \nThe aim of these discussions are to: \n\nReinforce the correct implementation of the 2024 Rules\nEnsure quality control in officiating\nProvide a platform for continuous learning\, also learning from each other\nCreate a culture of understanding and cooperation between all role players\, to improve the quality and standard of netball throughout Switzerland.\n\nJoining these discussions are voluntary. \nSign up here: https://evntn.co/e/jDGL5P3L
URL:https://swissnetball.ch/event/rules-discussion-reflection-on-round-3-5-of-national-league-online-1-hour/
LOCATION:GE
CATEGORIES:All Events,Officiating
ATTACH;FMTTYPE=image/png:https://swissnetball.ch/wp-content/uploads/2024/08/Umpire_1_0-1.png
END:VEVENT
BEGIN:VEVENT
DTSTART;VALUE=DATE:20250307
DTEND;VALUE=DATE:20250310
DTSTAMP:20260420T041945
CREATED:20240902T090219Z
LAST-MODIFIED:20241003T195358Z
UID:1649-1741305600-1741564799@swissnetball.ch
SUMMARY:Europe Netball U17 Challenge
DESCRIPTION:
URL:https://swissnetball.ch/event/europe-netball-u17-challenge/
LOCATION:GE
CATEGORIES:All Events,National Squads
ATTACH;FMTTYPE=image/png:https://swissnetball.ch/wp-content/uploads/2024/09/Junior-National-Squad.png
END:VEVENT
BEGIN:VEVENT
DTSTART;TZID=UTC:20250315T100000
DTEND;TZID=UTC:20250315T170000
DTSTAMP:20260420T041945
CREATED:20240902T075246Z
LAST-MODIFIED:20250206T200251Z
UID:1518-1742032800-1742058000@swissnetball.ch
SUMMARY:Peppermill
DESCRIPTION:All players must be an individual member of Swiss Netball for the 2024-25 season. Registration for individual membership is via Eventene. \nDetails here: https://swissnetball.ch/peppermill/
URL:https://swissnetball.ch/event/peppermill/
LOCATION:Bois-des-Frères\, Bois-des-Frères\, Chemin de l'Ecu 22\, Vernier\, Geneva\, 1219\, Switzerland
CATEGORIES:All Events,Peppermill,Tournaments
ATTACH;FMTTYPE=image/png:https://swissnetball.ch/wp-content/uploads/2024/09/Peppermill.png
END:VEVENT
BEGIN:VEVENT
DTSTART;VALUE=DATE:20250316
DTEND;VALUE=DATE:20250317
DTSTAMP:20260420T041945
CREATED:20240902T092247Z
LAST-MODIFIED:20250206T200223Z
UID:1701-1742083200-1742169599@swissnetball.ch
SUMMARY:Mentoring (CiT and C Umpires)
DESCRIPTION:More Officiating details here: https://swissnetball.ch/officiating/
URL:https://swissnetball.ch/event/mentoring-cit-c-umpires/
LOCATION:GE
CATEGORIES:All Events,Officiating
ATTACH;FMTTYPE=image/png:https://swissnetball.ch/wp-content/uploads/2024/08/Umpire_1_0-1.png
END:VEVENT
BEGIN:VEVENT
DTSTART;VALUE=DATE:20250316
DTEND;VALUE=DATE:20250317
DTSTAMP:20260420T041945
CREATED:20240902T092407Z
LAST-MODIFIED:20250218T112533Z
UID:1706-1742083200-1742169599@swissnetball.ch
SUMMARY:Into Umpiring Course
DESCRIPTION:Date: Sunday\, 16 March 2025 \nTimes: 8h00 – 11h00 \nAge: 13 years + \nCost: 50.-CHF  \nVenue: Centre sportif du Bois-des-Frères\, Geneve \nThis course is the first step on the umpire development pathway and a pre-requisite to attending the Europe Netball C Award Umpire course for those that wish to continue on the umpiring pathway. \nSign up here: https://evntn.co/e/lDNVOVD2
URL:https://swissnetball.ch/event/into-umpiring-course-2/
LOCATION:GE
CATEGORIES:All Events,Officiating
ATTACH;FMTTYPE=image/png:https://swissnetball.ch/wp-content/uploads/2024/08/Umpire_1_0-1.png
END:VEVENT
BEGIN:VEVENT
DTSTART;TZID=UTC:20250316T090000
DTEND;TZID=UTC:20250316T160000
DTSTAMP:20260420T041945
CREATED:20240902T073606Z
LAST-MODIFIED:20250206T195433Z
UID:1483-1742115600-1742140800@swissnetball.ch
SUMMARY:Junior Matchplay
DESCRIPTION:More details here: https://swissnetball.ch/matchplays/
URL:https://swissnetball.ch/event/junior-matchplay/
LOCATION:Bois-des-Frères\, Bois-des-Frères\, Chemin de l'Ecu 22\, Vernier\, Geneva\, 1219\, Switzerland
CATEGORIES:All Events,Matchplay
ATTACH;FMTTYPE=image/png:https://swissnetball.ch/wp-content/uploads/2024/09/Junior-Match-Play.png
END:VEVENT
BEGIN:VEVENT
DTSTART;TZID=UTC:20250316T090000
DTEND;TZID=UTC:20250316T170000
DTSTAMP:20260420T041945
CREATED:20240902T073418Z
LAST-MODIFIED:20250206T200054Z
UID:1478-1742115600-1742144400@swissnetball.ch
SUMMARY:Senior Mixed Matchplay
DESCRIPTION:More details here: https://swissnetball.ch/matchplays/
URL:https://swissnetball.ch/event/senior-mixed-matchplay-2/
LOCATION:Bois-des-Frères\, Bois-des-Frères\, Chemin de l'Ecu 22\, Vernier\, Geneva\, 1219\, Switzerland
CATEGORIES:All Events,Matchplay
ATTACH;FMTTYPE=image/png:https://swissnetball.ch/wp-content/uploads/2024/09/Senior-Matchplay.png
END:VEVENT
BEGIN:VEVENT
DTSTART;VALUE=DATE:20250322
DTEND;VALUE=DATE:20250323
DTSTAMP:20260420T041945
CREATED:20250322T090055Z
LAST-MODIFIED:20241012T092937Z
UID:1489-1742601600-1742687999@swissnetball.ch
SUMMARY:CANCELLED: National League Round 6
DESCRIPTION:
URL:https://swissnetball.ch/event/national-league-round-6/
LOCATION:GE
CATEGORIES:All Events,League
ATTACH;FMTTYPE=image/png:https://swissnetball.ch/wp-content/uploads/2024/09/Senior-National-Squad.png
END:VEVENT
BEGIN:VEVENT
DTSTART;VALUE=DATE:20250329
DTEND;VALUE=DATE:20250331
DTSTAMP:20260420T041945
CREATED:20240902T092506Z
LAST-MODIFIED:20241002T150316Z
UID:1708-1743206400-1743379199@swissnetball.ch
SUMMARY:Mentoring (BiT and B Umpires)
DESCRIPTION:
URL:https://swissnetball.ch/event/mentoring-bit-b-umpires-2/
LOCATION:GE
CATEGORIES:All Events,Officiating
ATTACH;FMTTYPE=image/png:https://swissnetball.ch/wp-content/uploads/2024/08/Umpire_1_0-1.png
END:VEVENT
BEGIN:VEVENT
DTSTART;TZID=UTC:20250329T223000
DTEND;TZID=UTC:20250330T150000
DTSTAMP:20260420T041945
CREATED:20240902T090318Z
LAST-MODIFIED:20250128T173144Z
UID:1651-1743287400-1743346800@swissnetball.ch
SUMMARY:Selection Weekend Open
DESCRIPTION:Sat: 10h30-16h30 \nSun: 09h00-15h00
URL:https://swissnetball.ch/event/selection-weekend-open/
LOCATION:Wetzikon\, Zurich\, Kantonsschule Zürcher Oberland\, Bühlstrasse 36\, Wetzikon\, ZH\, 8620\, Switzerland
CATEGORIES:All Events,National Squads
ATTACH;FMTTYPE=image/jpeg:https://swissnetball.ch/wp-content/uploads/2024/09/Photo-03-06-2022-16-40-52-1-2_1250x833-1-e1727617837376.jpeg
END:VEVENT
END:VCALENDAR