BEGIN:VCALENDAR
VERSION:2.0
PRODID:-//Swiss Netball - ECPv6.15.20//NONSGML v1.0//EN
CALSCALE:GREGORIAN
METHOD:PUBLISH
X-ORIGINAL-URL:https://swissnetball.ch
X-WR-CALDESC:Events for Swiss Netball
REFRESH-INTERVAL;VALUE=DURATION:PT1H
X-Robots-Tag:noindex
X-PUBLISHED-TTL:PT1H
BEGIN:VTIMEZONE
TZID:UTC
BEGIN:STANDARD
TZOFFSETFROM:+0000
TZOFFSETTO:+0000
TZNAME:UTC
DTSTART:20240101T000000
END:STANDARD
END:VTIMEZONE
BEGIN:VEVENT
DTSTART;TZID=UTC:20250412T100000
DTEND;TZID=UTC:20250413T160000
DTSTAMP:20260419T193111
CREATED:20240902T090448Z
LAST-MODIFIED:20241111T134703Z
UID:1653-1744452000-1744560000@swissnetball.ch
SUMMARY:Senior Squad Training  v International Teams
DESCRIPTION:
URL:https://swissnetball.ch/event/senior-squad-training-v-vv-2/
LOCATION:LGB\, International School of Geneva - La Grande Boissière 62\, route de Chêne\, Geneva\, GE\, Switzerland
CATEGORIES:All Events,National Squads
ATTACH;FMTTYPE=image/jpeg:https://swissnetball.ch/wp-content/uploads/2024/09/Photo-03-06-2022-16-40-52-1-2_1250x833-1-e1727617837376.jpeg
END:VEVENT
BEGIN:VEVENT
DTSTART;VALUE=DATE:20250414
DTEND;VALUE=DATE:20250415
DTSTAMP:20260419T193111
CREATED:20240902T092635Z
LAST-MODIFIED:20250218T112732Z
UID:1715-1744588800-1744675199@swissnetball.ch
SUMMARY:C Award Umpire Course - ONLINE
DESCRIPTION:Date: Monday\, 14 April 2025 \nTimes: 19h00 – 21h00 \nAge: 14 years + \nCost: 150.-CHF  \nVenue: Zoom \nFor full course information click here. \nPricing for the full C Award Umpire Course including Theory & Practical assessment: 150.-CHF \nSign up here: https://evntn.co/e/1DMWrkwN \nFor more information contact officiating@swissnetball.ch
URL:https://swissnetball.ch/event/c-award-umpire-course-online-2/
LOCATION:GE
CATEGORIES:All Events,Officiating
ATTACH;FMTTYPE=image/png:https://swissnetball.ch/wp-content/uploads/2024/08/Umpire_1_0-1.png
END:VEVENT
BEGIN:VEVENT
DTSTART;TZID=UTC:20250426T100000
DTEND;TZID=UTC:20250427T150000
DTSTAMP:20260419T193111
CREATED:20240902T090653Z
LAST-MODIFIED:20250206T200518Z
UID:1655-1745661600-1745766000@swissnetball.ch
SUMMARY:Senior Squad Training
DESCRIPTION:More details here: https://swissnetball.ch/open-squad/
URL:https://swissnetball.ch/event/senior-squad-training-and-international-friendlies/
LOCATION:Bois-des-Frères\, Bois-des-Frères\, Chemin de l'Ecu 22\, Vernier\, Geneva\, 1219\, Switzerland
CATEGORIES:All Events,National Squads
ATTACH;FMTTYPE=image/jpeg:https://swissnetball.ch/wp-content/uploads/2024/09/Photo-03-06-2022-16-40-52-1-2_1250x833-1-e1727617837376.jpeg
END:VEVENT
END:VCALENDAR