BEGIN:VCALENDAR
VERSION:2.0
PRODID:-//Swiss Netball - ECPv6.15.20//NONSGML v1.0//EN
CALSCALE:GREGORIAN
METHOD:PUBLISH
X-ORIGINAL-URL:https://swissnetball.ch
X-WR-CALDESC:Events for Swiss Netball
REFRESH-INTERVAL;VALUE=DURATION:PT1H
X-Robots-Tag:noindex
X-PUBLISHED-TTL:PT1H
BEGIN:VTIMEZONE
TZID:UTC
BEGIN:STANDARD
TZOFFSETFROM:+0000
TZOFFSETTO:+0000
TZNAME:UTC
DTSTART:20240101T000000
END:STANDARD
END:VTIMEZONE
BEGIN:VEVENT
DTSTART;VALUE=DATE:20250507
DTEND;VALUE=DATE:20250512
DTSTAMP:20260419T180832
CREATED:20240902T091207Z
LAST-MODIFIED:20250206T195852Z
UID:1672-1746576000-1747007999@swissnetball.ch
SUMMARY:Europe Netball Open Challenge
DESCRIPTION:More details: https://swissnetball.ch/open-squad/
URL:https://swissnetball.ch/event/europe-netball-open-challenge/
LOCATION:GE
CATEGORIES:All Events,National Squads
ATTACH;FMTTYPE=image/png:https://swissnetball.ch/wp-content/uploads/2024/09/Junior-National-Squad.png
END:VEVENT
BEGIN:VEVENT
DTSTART;VALUE=DATE:20250525
DTEND;VALUE=DATE:20250526
DTSTAMP:20260419T180832
CREATED:20240902T092741Z
LAST-MODIFIED:20241003T215321Z
UID:1723-1748131200-1748217599@swissnetball.ch
SUMMARY:Foundation to Coaching
DESCRIPTION:
URL:https://swissnetball.ch/event/foundation-to-coaching/
LOCATION:GE
CATEGORIES:All Events
ATTACH;FMTTYPE=image/png:https://swissnetball.ch/wp-content/uploads/2024/09/Coaching-copy.png
END:VEVENT
BEGIN:VEVENT
DTSTART;VALUE=DATE:20250531
DTEND;VALUE=DATE:20250601
DTSTAMP:20260419T180832
CREATED:20250531T080003Z
LAST-MODIFIED:20241012T092903Z
UID:1494-1748649600-1748735999@swissnetball.ch
SUMMARY:CANCELLED: National League Round 7
DESCRIPTION:
URL:https://swissnetball.ch/event/national-league-round-7/
LOCATION:GE
CATEGORIES:All Events,League
ATTACH;FMTTYPE=image/png:https://swissnetball.ch/wp-content/uploads/2024/09/Senior-National-Squad.png
END:VEVENT
END:VCALENDAR